BEGIN:VCALENDAR
VERSION:2.0
PRODID:-//betoobe - ECPv6.13.0//NONSGML v1.0//EN
CALSCALE:GREGORIAN
METHOD:PUBLISH
X-WR-CALNAME:betoobe
X-ORIGINAL-URL:https://betoo.be
X-WR-CALDESC:Events for betoobe
REFRESH-INTERVAL;VALUE=DURATION:PT1H
X-Robots-Tag:noindex
X-PUBLISHED-TTL:PT1H
BEGIN:VTIMEZONE
TZID:Europe/Brussels
BEGIN:DAYLIGHT
TZOFFSETFROM:+0100
TZOFFSETTO:+0200
TZNAME:CEST
DTSTART:20220327T010000
END:DAYLIGHT
BEGIN:STANDARD
TZOFFSETFROM:+0200
TZOFFSETTO:+0100
TZNAME:CET
DTSTART:20221030T010000
END:STANDARD
END:VTIMEZONE
BEGIN:VEVENT
DTSTART;TZID=Europe/Brussels:20220610T190000
DTEND;TZID=Europe/Brussels:20220610T210000
DTSTAMP:20260425T195255
CREATED:20220603T071905Z
LAST-MODIFIED:20220603T072559Z
UID:70713-1654887600-1654894800@betoo.be
SUMMARY:360 Co-Development Clinic
DESCRIPTION:Based on the Co-Development method created by Claude Champagne and Adrien Payette\, a Clinic is a unique opportunity to see the power of collective intelligence in action. A very well-structured step-by-step workshop where the group decides to support one of the participants in addressing a pressing challenge. The challenge is explored\, practical insights are shared and everyone learns. All that\, in a safe environment.\n\n \n🎯 Objective of a Clinic\n\n\n\nSingle participation will bring you immediate rewards:\n\n🔸 A powerful collective intelligence practice\n🔸 Practical answers to pressing questions\n🔸 New light on your consultant posture\n🔸 A way to get out of your box\n\nRepeated participation will bring you more rewards:\n\n🔸 A general improvement in efficiency\n🔸 Increased openness to views and ideas\n🔸 A feeling to finally address the important questions\n🔸 A deeper connexion with fellow iPros\n\n \n📖 What to expect?\n\n\n\nIn these sessions\, participants assume the role of Client and the role of Consultant.\n\nHere is how you will benefit best from the 360 Clinic as a “Client”\n👉 Come to a safe environment with a 5-minute presentation of your issue\n👉 Be prepared to answer clarifying questions\n👉 Enjoy all the support you get in the form of answers that are specific to your needs\n👉 Be prepared to be challenged to become a stronger and better iPro\n\nHere is how you will benefit best from the 360 Clinic as a “Consultant”\n👉 Come to a safe environment with a respectful and collaborative attitude\n👉 Be prepared to ask clarifying questions\n👉 Share\, when available\, relevant and specific insight with other participants\n👉 Be prepared to learn a lot from all interactions\n\n \n\n \n\n\n\n\n\n\n\n\n\n\n\n📚 About the betoobe 360 program\nWith the ambition of an MBA for Independent Professional\, the betoobe 360 program is divided into 3 tracks\, 20 topics\, and delivers more than 100 hours of packed business value per year.\n\nIts main components are the 360 Clinics\, the 360 Essentials Workshops\, and the 360 Master Classes. Delivered in small sessions throughout the year in an online format\, this program is perfectly adapted to the lifestyle and constraints of an Independent Professional.\n\nThe topics range from sales to finance through marketing and entrepreneurship. The fully “a la carte” approach makes it a perfect match for your needs: just in time\, just enough.\n🎓 About the organizers\nThe program is animated and delivered by Jean-Paul Delmeire (jp@betoo.be) with the support of expert guests and of the community of betoobe leaders. In the last 10 years\, the founder of betoobe has successfully applied his extensive executive experience to define a unique program of business improvement for innovative companies.\n\nNow\, this program has been adapted to the needs of Independent Professionals and is delivered as the betoobe 360 program. JP brings an academic background in Business and Education Science\, an exceptional track record as an Executive\, a successful Business Improvement Model\, and many years of experience as an Independent Professional himself.
URL:https://betoo.be/event/360-co-development-clinic-3/
CATEGORIES:Public EN,Public FR,Public NL
ATTACH;FMTTYPE=image/png:https://betoo.be/wp-content/uploads/2022/06/2-Clinic-EN.png
ORGANIZER;CN="Jean-Paul Delmeire":MAILTO:jean-paul.delmeire@adilea.com
LOCATION:https://zoom.us/j/5673218989
END:VEVENT
END:VCALENDAR