BEGIN:VCALENDAR
VERSION:2.0
PRODID:-//betoobe - ECPv6.13.0//NONSGML v1.0//EN
CALSCALE:GREGORIAN
METHOD:PUBLISH
X-ORIGINAL-URL:https://betoo.be
X-WR-CALDESC:Events for betoobe
REFRESH-INTERVAL;VALUE=DURATION:PT1H
X-Robots-Tag:noindex
X-PUBLISHED-TTL:PT1H
BEGIN:VTIMEZONE
TZID:Europe/Brussels
BEGIN:DAYLIGHT
TZOFFSETFROM:+0100
TZOFFSETTO:+0200
TZNAME:CEST
DTSTART:20210328T010000
END:DAYLIGHT
BEGIN:STANDARD
TZOFFSETFROM:+0200
TZOFFSETTO:+0100
TZNAME:CET
DTSTART:20211031T010000
END:STANDARD
END:VTIMEZONE
BEGIN:VEVENT
DTSTART;TZID=Europe/Brussels:20210311T093000
DTEND;TZID=Europe/Brussels:20210311T103000
DTSTAMP:20260420T201230
CREATED:20210218T024858Z
LAST-MODIFIED:20210311T084618Z
UID:66707-1615455000-1615458600@betoo.be
SUMMARY:Vragen stellen\, hoe leer je dat?
DESCRIPTION:Als coach leef ik in een wereld van vragen. Zo gebruik ik ook de slogan: “Questions are the answer”.Tijdens deze mindshare ga ik met jou door het process van vragenstellen. Als deelnemer zal je enkel alleen vragen mogen stellen.Het combineert zo concentratie\, reflectie en plezier. Are you up for the challenge?Agenda;\n 	Introducties\n 	Het concept toelichten\n 	Vragen conversatie starten
URL:https://betoo.be/event/mindshare-asking-the-right-questions/
CATEGORIES:Public NL
ATTACH;FMTTYPE=image/png:https://betoo.be/wp-content/uploads/2021/02/Betoobe-banner-Linkedin-platform-2.png
ORGANIZER;CN="Nico Van de Venne":MAILTO:nico@fenikscoaching.com
LOCATION:https://us02web.zoom.us/j/83714424012?pwd=QVJnNlpoUDNEYkc4Y0hPN3pwYTZQdz09
END:VEVENT
BEGIN:VEVENT
DTSTART;TZID=Europe/Brussels:20210303T192500
DTEND;TZID=Europe/Brussels:20210303T210000
DTSTAMP:20260420T201230
CREATED:20210218T040321Z
LAST-MODIFIED:20210228T091359Z
UID:66754-1614799500-1614805200@betoo.be
SUMMARY:#nextlevel betoo.be networking – Linkedin\, de mythes van algoritmen en zoekwoorden doorbroken.
DESCRIPTION:Deze netwerk meeting is niet zomaar een koffie nemen en samen zitten om even te netwerken. We gaan in op; Mini-trainingsPitches van alle deelnemers(ters)Bezoekers uitnodigen1op1 gesprekkenMond aan mond voorstelling in netwerk van het netwerkVoorstelling van een vast deelnemer(ster)en nog veel meerAgenda voor deze #nextlevelbetoobe netwerking meeting; Missie-visie-strategie van Betoo.beMini-training3 minuut pitch Betoo.be members gevolgd door bezoekersIdeale gesprekspartner 1op1 gesprekken?Wie zijn mijn klanten? Aan wie kan je mij voorstellen?Wekelijkse presentatie door een vast lid van Betoo.beAfronden met een netwerkingHoe meer jij deelneemt\, hoe meer jij zichtbaar bent en netwerk van het netwerk kan aanspreken. We all stand together\, go #nextlevel betoo.be
URL:https://betoo.be/event/nextlevel-betoo-be-networking-10-door-3/
CATEGORIES:Public NL
ATTACH;FMTTYPE=image/png:https://betoo.be/wp-content/uploads/2021/02/Copy-of-betoo.be-banner-1-2.png
ORGANIZER;CN="Nico Van de Venne":MAILTO:nico@fenikscoaching.com
LOCATION:https://us02web.zoom.us/j/82957842491?pwd=dGtLQ3ZOT0tQZ0svK0VtUmNwWlZJZz09
END:VEVENT
BEGIN:VEVENT
DTSTART;TZID=Europe/Brussels:20210222T193000
DTEND;TZID=Europe/Brussels:20210222T213000
DTSTAMP:20260420T201230
CREATED:20210207T114426Z
LAST-MODIFIED:20210222T152846Z
UID:66391-1614022200-1614029400@betoo.be
SUMMARY:Inspirational sofa session with Jef Staes: Breaking Yesterday for corporate managers & CEO’s
DESCRIPTION:Jef Staes is an authority in the field of learning and innovative organizations. \nToday Jef is known as an international keynote speaker\, guest speaker\, author and TedX speaker. His stories and books are guaranteed eye-openers and his mindset in the field of organizational development and education is a source of inspiration for many. \nBreaking Yesterday\nClimate change is not caused by ‘nature’\, it is the unintended consequence of self-destructive human activity. The inability to learn fast and the slowness to embrace disruptive innovation is not normal human behavior\, it is the unintended consequence of a self-destructive balance between our current educational system and the organization of work. Without realizing\, education has become a copy machine and companies have become copy employers. In order to survive our self-destructive nature we have to break the power of ‘discipline & intelligence’ and embrace the power of ‘passion & talents’. We have to allow and promote disruptive innovation in the organization of learning & working. This Learning Café will focus on the dramatic consequences when embracing this switch. You will become disrupted! \nThis session is focused on Corporate HR\, line managers and CEO’s in company’s \nWe cover topics like: \n– In need of renewed organisations: Switch3D \n– The Battle of the Smarts: Working in the groove of your passion and talents \n– Organizations in Search of a New Balance – Red Monkey Innovation Management \nHope to see you soon \nAn
URL:https://betoo.be/event/inspirational-sofa-session-with-jef-staes-breaking-yesterday-for-corporate-managers-ceos/
CATEGORIES:Public EN,Public FR,Public NL
ATTACH;FMTTYPE=image/jpeg:https://betoo.be/wp-content/uploads/2021/02/Collor-of-innovation-is-red-1.jpg
LOCATION:https://zoom.us/j/92339678652?pwd=K05PRFBqTXkwbHRhUlR4bWVLQUd2UT09
END:VEVENT
BEGIN:VEVENT
DTSTART;TZID=Europe/Brussels:20210222T193000
DTEND;TZID=Europe/Brussels:20210222T210000
DTSTAMP:20260420T201230
CREATED:20210207T112647Z
LAST-MODIFIED:20210221T101415Z
UID:66386-1614022200-1614027600@betoo.be
SUMMARY:Find Your Voice
DESCRIPTION:Wens je deel te nemen aan één van de na trajecten van Stefanie van Moen? Vind je stem focust zich op volgende punten De fundamenten van spreken met impactDe kracht van pauzesHoe ademhaling het fundament is van spraak en communicatieHoe kan je afstemmen en intunen met je stemVocale variatie en resonantie en wat het voor jou als spreker kan betekenenSpreken met een mondmasker
URL:https://betoo.be/event/find-your-voice/
CATEGORIES:Public EN,Public NL
ATTACH;FMTTYPE=image/png:https://betoo.be/wp-content/uploads/2021/01/3.png
ORGANIZER;CN="Peter Janssens":MAILTO:peter.janssens@winignite.com
LOCATION:https://us02web.zoom.us/j/3989121966
END:VEVENT
BEGIN:VEVENT
DTSTART;TZID=Europe/Brussels:20210208T193000
DTEND;TZID=Europe/Brussels:20210208T210000
DTSTAMP:20260420T201230
CREATED:20210207T111350Z
LAST-MODIFIED:20210207T112253Z
UID:66382-1612812600-1612818000@betoo.be
SUMMARY:Language of leadership coaching
DESCRIPTION:Wens je deel te nemen aan één van de na trajecten van Stefanie van Moen? De taal van LEIDERSCHAP focust zich op volgende punten Gericht op speeches en keynotesWinning the minds op drie vlakken en hoe je dat doetMetaforenWoordgebruik en het effectVoorbeelden uit bestaande speechesRegel van drieWelk effect wil je bekomen en hoe zorg je hiervoor met woordkeuze en stemgebruik
URL:https://betoo.be/event/language-of-leadership-coaching/
CATEGORIES:Public NL
ATTACH;FMTTYPE=image/png:https://betoo.be/wp-content/uploads/2021/01/3.png
ORGANIZER;CN="Peter Janssens":MAILTO:peter.janssens@winignite.com
END:VEVENT
BEGIN:VEVENT
DTSTART;TZID=Europe/Brussels:20210205T140000
DTEND;TZID=Europe/Brussels:20210205T150000
DTSTAMP:20260420T201230
CREATED:20210218T020625Z
LAST-MODIFIED:20210223T065417Z
UID:66678-1612533600-1612537200@betoo.be
SUMMARY:betoo Call (nl)
DESCRIPTION:Ontdek alles over ‘betoobe’ en hoe je je netwerk kwalitatief  kan uitbreiden en jezelf als freelancer (independent professional) verder kan ontwikkelen. 🧧 Info over deze callbetoobe is een een georganiseerd ecosysteem voor freelancers (iPro*)  waar je alle diensten kan vinden om het verschil te kunnen maken bij je klanten. … ! Welke zijn de belangrijkste diensten die je op het online platform kan vinden? ✔ Netwerken met huisgenoten die er ook van overtuigd zijn dat je samen sterker staat dan alleen✔ ervaringen  delen over gemeenschappelijke onderwerpen via verschillende ‘communities’✔ kwaliteitstrainingen die je vooruit helpen (dit kan ook op aanvraag)✔ toegang hebben tot diverse expertises✔ toegang hebben tot jobs op een exclusieve manier\, via collega’s die al actief zijn bij die klant. betoobe is het enige ecosysteem voor iPro’s waar de leden worden beloond om elkaar te helpen: 💸 Verdien geld met het netwerk💸Genereer inkomsten door veldervaring en expertise te delen betoobe streeft naar het genereren van een hogere collectieve waarde door samenwerking tussen onafhankelijke professionals. * iPro:  Independent Professionals zijn zelfstandigen zonder vaste medewerkers die hun intellectuele diensten aanbieden aan andere bedrijven. 👨🏻 ORGANISATORPeter Janssens is co-founder betoobe\,  digitale transformatie pionier\, sales expert en coach.
URL:https://betoo.be/event/betoo-call-nl-39/
CATEGORIES:Public NL
ATTACH;FMTTYPE=image/png:https://betoo.be/wp-content/uploads/2021/02/betoo-Call-5.png
LOCATION:https://zoom.us/j/3989121966
END:VEVENT
BEGIN:VEVENT
DTSTART;TZID=Europe/Brussels:20210204T190000
DTEND;TZID=Europe/Brussels:20210204T200000
DTSTAMP:20260420T201230
CREATED:20210218T020211Z
LAST-MODIFIED:20210223T065408Z
UID:66675-1612465200-1612468800@betoo.be
SUMMARY:betoo Call (nl)
DESCRIPTION:Ontdek alles over ‘betoobe’ en hoe je je netwerk kwalitatief  kan uitbreiden en jezelf als freelancer (independent professional) verder kan ontwikkelen. 🧧 Info over deze callbetoobe is een een georganiseerd ecosysteem voor freelancers (iPro*)  waar je alle diensten kan vinden om het verschil te kunnen maken bij je klanten. … ! Welke zijn de belangrijkste diensten die je op het online platform kan vinden? ✔ Netwerken met huisgenoten die er ook van overtuigd zijn dat je samen sterker staat dan alleen✔ ervaringen  delen over gemeenschappelijke onderwerpen via verschillende ‘communities’✔ kwaliteitstrainingen die je vooruit helpen (dit kan ook op aanvraag)✔ toegang hebben tot diverse expertises✔ toegang hebben tot jobs op een exclusieve manier\, via collega’s die al actief zijn bij die klant. betoobe is het enige ecosysteem voor iPro’s waar de leden worden beloond om elkaar te helpen: 💸 Verdien geld met het netwerk💸Genereer inkomsten door veldervaring en expertise te delen betoobe streeft naar het genereren van een hogere collectieve waarde door samenwerking tussen onafhankelijke professionals. * iPro:  Independent Professionals zijn zelfstandigen zonder vaste medewerkers die hun intellectuele diensten aanbieden aan andere bedrijven. 👨🏻 ORGANISATORPeter Janssens is co-founder betoobe\,  digitale transformatie pionier\, sales expert en coach.
URL:https://betoo.be/event/betoo-call-nl-38/
CATEGORIES:Public NL
ATTACH;FMTTYPE=image/png:https://betoo.be/wp-content/uploads/2021/02/betoo-Call-5.png
ORGANIZER;CN="Peter Janssens":MAILTO:peter.janssens@winignite.com
LOCATION:https://zoom.us/j/3989121966
END:VEVENT
BEGIN:VEVENT
DTSTART;TZID=Europe/Brussels:20210203T130000
DTEND;TZID=Europe/Brussels:20210203T140000
DTSTAMP:20260420T201230
CREATED:20210218T015004Z
LAST-MODIFIED:20210223T065336Z
UID:66666-1612357200-1612360800@betoo.be
SUMMARY:betoo Call (nl)
DESCRIPTION:Ontdek alles over ‘betoobe’ en hoe je je netwerk kwalitatief  kan uitbreiden en jezelf als freelancer (independent professional) verder kan ontwikkelen. 🧧 Info over deze callbetoobe is een een georganiseerd ecosysteem voor freelancers (iPro*)  waar je alle diensten kan vinden om het verschil te kunnen maken bij je klanten. … ! Welke zijn de belangrijkste diensten die je op het online platform kan vinden? ✔ Netwerken met huisgenoten die er ook van overtuigd zijn dat je samen sterker staat dan alleen✔ ervaringen  delen over gemeenschappelijke onderwerpen via verschillende ‘communities’✔ kwaliteitstrainingen die je vooruit helpen (dit kan ook op aanvraag)✔ toegang hebben tot diverse expertises✔ toegang hebben tot jobs op een exclusieve manier\, via collega’s die al actief zijn bij die klant. betoobe is het enige ecosysteem voor iPro’s waar de leden worden beloond om elkaar te helpen: 💸 Verdien geld met het netwerk💸Genereer inkomsten door veldervaring en expertise te delen betoobe streeft naar het genereren van een hogere collectieve waarde door samenwerking tussen onafhankelijke professionals. * iPro:  Independent Professionals zijn zelfstandigen zonder vaste medewerkers die hun intellectuele diensten aanbieden aan andere bedrijven. 👨🏻 ORGANISATORPeter Janssens is co-founder betoobe\,  digitale transformatie pionier\, sales expert en coach.
URL:https://betoo.be/event/betoo-call-nl-37/
CATEGORIES:Public NL
ATTACH;FMTTYPE=image/png:https://betoo.be/wp-content/uploads/2021/02/betoo-Call-5.png
LOCATION:https://zoom.us/j/3989121966
END:VEVENT
BEGIN:VEVENT
DTSTART;TZID=Europe/Brussels:20210202T192500
DTEND;TZID=Europe/Brussels:20210202T210000
DTSTAMP:20260420T201230
CREATED:20210218T014414Z
LAST-MODIFIED:20210223T065150Z
UID:66662-1612293900-1612299600@betoo.be
SUMMARY:#nextlevel betoo.be networking - 10' door Anneke Verschueren
DESCRIPTION:Deze netwerk meeting is niet zomaar een koffie nemen en samen zitten om even te netwerken. We gaan in op; Mini-trainingsPitches van alle deelnemers(ters)Bezoekers uitnodigen1op1 gesprekkenMond aan mond voorstelling in netwerk van het netwerkVoorstelling van een vast deelnemer(ster)en nog veel meerAgenda voor deze #nextlevelbetoobe netwerking meeting; Missie-visie-strategie van Betoo.beMini-training3 minuut pitch Betoo.be members gevolgd door bezoekersIdeale gesprekspartner 1op1 gesprekken?Wie zijn mijn klanten? Aan wie kan je mij voorstellen?Wekelijkse presentatie door een vast lid van Betoo.beAfronden met een netwerkingHoe meer jij deelneemt\, hoe meer jij zichtbaar bent en netwerk van het netwerk kan aanspreken. We all stand together\, go #nextlevel betoo.be
URL:https://betoo.be/event/nextlevel-betoo-be-networking-10-door-2/
CATEGORIES:Public NL
ATTACH;FMTTYPE=image/png:https://betoo.be/wp-content/uploads/2021/02/nextlevel.png
LOCATION:https://us02web.zoom.us/j/89369266518
END:VEVENT
BEGIN:VEVENT
DTSTART;TZID=Europe/Brussels:20210129T130000
DTEND;TZID=Europe/Brussels:20210129T140000
DTSTAMP:20260420T201230
CREATED:20210218T011619Z
LAST-MODIFIED:20210223T065037Z
UID:66648-1611925200-1611928800@betoo.be
SUMMARY:betoo Call (nl)
DESCRIPTION:Ontdek alles over ‘betoobe’ en hoe je je netwerk kwalitatief  kan uitbreiden en jezelf als freelancer (independent professional) verder kan ontwikkelen. 🧧 Info over deze callbetoobe is een een georganiseerd ecosysteem voor freelancers (iPro*)  waar je alle diensten kan vinden om het verschil te kunnen maken bij je klanten. … ! Welke zijn de belangrijkste diensten die je op het online platform kan vinden? ✔ Netwerken met huisgenoten die er ook van overtuigd zijn dat je samen sterker staat dan alleen✔ ervaringen  delen over gemeenschappelijke onderwerpen via verschillende ‘communities’✔ kwaliteitstrainingen die je vooruit helpen (dit kan ook op aanvraag)✔ toegang hebben tot diverse expertises✔ toegang hebben tot jobs op een exclusieve manier\, via collega’s die al actief zijn bij die klant. betoobe is het enige ecosysteem voor iPro’s waar de leden worden beloond om elkaar te helpen: 💸 Verdien geld met het netwerk💸Genereer inkomsten door veldervaring en expertise te delen betoobe streeft naar het genereren van een hogere collectieve waarde door samenwerking tussen onafhankelijke professionals. * iPro:  Independent Professionals zijn zelfstandigen zonder vaste medewerkers die hun intellectuele diensten aanbieden aan andere bedrijven. 👨🏻 ORGANISATORPeter Janssens is co-founder betoobe\,  digitale transformatie pionier\, sales expert en coach.
URL:https://betoo.be/event/betoo-call-nl-36/
CATEGORIES:Public NL
ATTACH;FMTTYPE=image/png:https://betoo.be/wp-content/uploads/2021/02/betoo-Call-5.png
ORGANIZER;CN="Peter Janssens":MAILTO:peter.janssens@winignite.com
LOCATION:https://zoom.us/j/3989121966
END:VEVENT
BEGIN:VEVENT
DTSTART;TZID=Europe/Brussels:20210128T190000
DTEND;TZID=Europe/Brussels:20210128T200000
DTSTAMP:20260420T201230
CREATED:20210218T011133Z
LAST-MODIFIED:20210223T065023Z
UID:66645-1611860400-1611864000@betoo.be
SUMMARY:betoo Call (nl)
DESCRIPTION:Ontdek alles over ‘betoobe’ en hoe je je netwerk kwalitatief  kan uitbreiden en jezelf als freelancer (independent professional) verder kan ontwikkelen. 🧧 Info over deze callbetoobe is een een georganiseerd ecosysteem voor freelancers (iPro*)  waar je alle diensten kan vinden om het verschil te kunnen maken bij je klanten. … ! Welke zijn de belangrijkste diensten die je op het online platform kan vinden? ✔ Netwerken met huisgenoten die er ook van overtuigd zijn dat je samen sterker staat dan alleen✔ ervaringen  delen over gemeenschappelijke onderwerpen via verschillende ‘communities’✔ kwaliteitstrainingen die je vooruit helpen (dit kan ook op aanvraag)✔ toegang hebben tot diverse expertises✔ toegang hebben tot jobs op een exclusieve manier\, via collega’s die al actief zijn bij die klant. betoobe is het enige ecosysteem voor iPro’s waar de leden worden beloond om elkaar te helpen: 💸 Verdien geld met het netwerk💸Genereer inkomsten door veldervaring en expertise te delen betoobe streeft naar het genereren van een hogere collectieve waarde door samenwerking tussen onafhankelijke professionals. * iPro:  Independent Professionals zijn zelfstandigen zonder vaste medewerkers die hun intellectuele diensten aanbieden aan andere bedrijven. 👨🏻 ORGANISATORPeter Janssens is co-founder betoobe\,  digitale transformatie pionier\, sales expert en coach.
URL:https://betoo.be/event/betoo-call-nl-32/
CATEGORIES:Public NL
ATTACH;FMTTYPE=image/png:https://betoo.be/wp-content/uploads/2021/02/betoo-Call-5.png
LOCATION:https://zoom.us/j/3989121966
END:VEVENT
BEGIN:VEVENT
DTSTART;TZID=Europe/Brussels:20210126T130000
DTEND;TZID=Europe/Brussels:20210126T140000
DTSTAMP:20260420T201230
CREATED:20210218T010056Z
LAST-MODIFIED:20210223T064955Z
UID:66638-1611666000-1611669600@betoo.be
SUMMARY:betoo Call (nl)
DESCRIPTION:Ontdek alles over ‘betoobe’ en hoe je je netwerk kwalitatief  kan uitbreiden en jezelf als freelancer (independent professional) verder kan ontwikkelen. 🧧 Info over deze callbetoobe is een een georganiseerd ecosysteem voor freelancers (iPro*)  waar je alle diensten kan vinden om het verschil te kunnen maken bij je klanten. … ! Welke zijn de belangrijkste diensten die je op het online platform kan vinden? ✔ Netwerken met huisgenoten die er ook van overtuigd zijn dat je samen sterker staat dan alleen✔ ervaringen  delen over gemeenschappelijke onderwerpen via verschillende ‘communities’✔ kwaliteitstrainingen die je vooruit helpen (dit kan ook op aanvraag)✔ toegang hebben tot diverse expertises✔ toegang hebben tot jobs op een exclusieve manier\, via collega’s die al actief zijn bij die klant. betoobe is het enige ecosysteem voor iPro’s waar de leden worden beloond om elkaar te helpen: 💸 Verdien geld met het netwerk💸Genereer inkomsten door veldervaring en expertise te delen betoobe streeft naar het genereren van een hogere collectieve waarde door samenwerking tussen onafhankelijke professionals. * iPro:  Independent Professionals zijn zelfstandigen zonder vaste medewerkers die hun intellectuele diensten aanbieden aan andere bedrijven. 👨🏻 ORGANISATORPeter Janssens is co-founder betoobe\,  digitale transformatie pionier\, sales expert en coach.
URL:https://betoo.be/event/betoo-call-nl-34/
CATEGORIES:Public NL
ATTACH;FMTTYPE=image/png:https://betoo.be/wp-content/uploads/2021/02/betoo-Call-5.png
LOCATION:https://zoom.us/j/3989121966
END:VEVENT
BEGIN:VEVENT
DTSTART;TZID=Europe/Brussels:20210125T210000
DTEND;TZID=Europe/Brussels:20210125T220000
DTSTAMP:20260420T201230
CREATED:20210218T005459Z
LAST-MODIFIED:20210223T064924Z
UID:66635-1611608400-1611612000@betoo.be
SUMMARY:betoo Call (nl)
DESCRIPTION:Ontdek alles over ‘betoobe’ en hoe je je netwerk kwalitatief  kan uitbreiden en jezelf als freelancer (independent professional) verder kan ontwikkelen. 🧧 Info over deze callbetoobe is een een georganiseerd ecosysteem voor freelancers (iPro*)  waar je alle diensten kan vinden om het verschil te kunnen maken bij je klanten. … ! Welke zijn de belangrijkste diensten die je op het online platform kan vinden? ✔ Netwerken met huisgenoten die er ook van overtuigd zijn dat je samen sterker staat dan alleen✔ ervaringen  delen over gemeenschappelijke onderwerpen via verschillende ‘communities’✔ kwaliteitstrainingen die je vooruit helpen (dit kan ook op aanvraag)✔ toegang hebben tot diverse expertises✔ toegang hebben tot jobs op een exclusieve manier\, via collega’s die al actief zijn bij die klant. betoobe is het enige ecosysteem voor iPro’s waar de leden worden beloond om elkaar te helpen: 💸 Verdien geld met het netwerk💸Genereer inkomsten door veldervaring en expertise te delen betoobe streeft naar het genereren van een hogere collectieve waarde door samenwerking tussen onafhankelijke professionals. * iPro:  Independent Professionals zijn zelfstandigen zonder vaste medewerkers die hun intellectuele diensten aanbieden aan andere bedrijven. 👨🏻 ORGANISATORPeter Janssens is co-founder betoobe\,  digitale transformatie pionier\, sales expert en coach.
URL:https://betoo.be/event/betoo-call-nl-35/
CATEGORIES:Public NL
ATTACH;FMTTYPE=image/png:https://betoo.be/wp-content/uploads/2021/02/betoo-Call-5.png
ORGANIZER;CN="Peter Janssens":MAILTO:peter.janssens@winignite.com
LOCATION:https://zoom.us/j/3989121966
END:VEVENT
BEGIN:VEVENT
DTSTART;TZID=Europe/Brussels:20210121T190000
DTEND;TZID=Europe/Brussels:20210121T200000
DTSTAMP:20260420T201230
CREATED:20210218T003813Z
LAST-MODIFIED:20210223T064849Z
UID:66624-1611255600-1611259200@betoo.be
SUMMARY:betoo Call (nl)
DESCRIPTION:Ontdek alles over ‘betoobe’ en hoe je je netwerk kwalitatief  kan uitbreiden en jezelf als freelancer (independent professional) verder kan ontwikkelen. 🧧 Info over deze callbetoobe is een een georganiseerd ecosysteem voor freelancers (iPro*)  waar je alle diensten kan vinden om het verschil te kunnen maken bij je klanten. … ! Welke zijn de belangrijkste diensten die je op het online platform kan vinden? ✔ Netwerken met huisgenoten die er ook van overtuigd zijn dat je samen sterker staat dan alleen✔ ervaringen  delen over gemeenschappelijke onderwerpen via verschillende ‘communities’✔ kwaliteitstrainingen die je vooruit helpen (dit kan ook op aanvraag)✔ toegang hebben tot diverse expertises✔ toegang hebben tot jobs op een exclusieve manier\, via collega’s die al actief zijn bij die klant. betoobe is het enige ecosysteem voor iPro’s waar de leden worden beloond om elkaar te helpen: 💸 Verdien geld met het netwerk💸Genereer inkomsten door veldervaring en expertise te delen betoobe streeft naar het genereren van een hogere collectieve waarde door samenwerking tussen onafhankelijke professionals. * iPro:  Independent Professionals zijn zelfstandigen zonder vaste medewerkers die hun intellectuele diensten aanbieden aan andere bedrijven. 👨🏻 ORGANISATORPeter Janssens is co-founder betoobe\,  digitale transformatie pionier\, sales expert en coach.
URL:https://betoo.be/event/betoo-call-nl-31/
CATEGORIES:Public NL
ATTACH;FMTTYPE=image/png:https://betoo.be/wp-content/uploads/2021/02/betoo-Call-5.png
LOCATION:https://zoom.us/j/3989121966
END:VEVENT
BEGIN:VEVENT
DTSTART;TZID=Europe/Brussels:20210118T192000
DTEND;TZID=Europe/Brussels:20210118T210000
DTSTAMP:20260420T201230
CREATED:20210218T002143Z
LAST-MODIFIED:20210223T064615Z
UID:66615-1610997600-1611003600@betoo.be
SUMMARY:Inspirational sofa sessie: Nemen we onszelf niet te vaak te serieus als spreker?
DESCRIPTION:[tribe_tickets_protected_content post_id=”66615″] \nhttps://zoom.us/j/6212962946 \nPaswoord: 100 \nof : https://zoom.us/j/6212962946?pwd=TW5pNUZMQ0l4aVlBNE83aUFaazVaUT09 \n[/tribe_tickets_protected_content] Voor onze 2de inspirational sofa sessie nodigen we Stefanie Van Moen uit:Je herkent het vast wel. Het voorstellingsrondje\, de spanning die opbouwt tot het eindelijk aan jou is om jezelf voor te stellen aan de groep. Of wanneer je plots wordt gevraagd om ‘een klein woordje te zeggen’ aan het begin van de receptie. Misschien herken jij het op momenten dat er iemand op een netwerkevent aan je vraagt: ‘Vertel eens\, wat doe jij nu eigenlijk?’ All eyes on you. En dan gaan we hard nadenken over wat we juist willen zeggen\, of wat juist niet. Misschien begin je te versnellen of zeg je vaker ‘euh’ dan je lief is. Dit is geen pleidooi voor je-m’en-foutisme\, wel een zachte aanmoediging om het perfectionisme los te laten wanneer het aankomt op spreken voor publiek.Want enkel en wanneer je jezelf toestaat om ook te genieten van je moment als spreker\, sta je in het moment en maak je echt verbinding met je publiek. Wat gaan we leren ?– De impact van je stem op je publiek leren kennen\, afstemmen (letterlijk en figuurlijk) op je publiek en gesprekspartner. – We breathe our thoughts; of: hoe ademhaling je stem en verhaal stuurt.– Je innerlijke criticus als spreker beteugelen – Hoe spreek je in het moment en in connectie met je publiek Wist je dat:“The most powerful person in the room… is the one with the most relaxed breathing pattern” Stefanie Van Moen is founder en sprekerscoach bij Vox Consult. Ze traint ondernemende professionals om hun verhaal\, pitch of presentatie krachtig en vol vertrouwen neer te zetten\, in verbinding met het doelpubliek. Stefanie is gastdocent aan verschillende hogescholen en managementsopleidingen waar ze lesgeeft over spreken met impact\, communicatiestrategieën en presentatie-skills. https://www.voxconsult.be/aboutme
URL:https://betoo.be/event/inspirational-sofa-sessie-nemen-we-onszelf-niet-te-vaak-te-serieus-als-spreker/
CATEGORIES:Public NL
ATTACH;FMTTYPE=image/jpeg:https://betoo.be/wp-content/uploads/2021/02/Ticket-Stefanie-Van-Moen.jpg
LOCATION:https://zoom.us/j/6212962946
END:VEVENT
BEGIN:VEVENT
DTSTART;TZID=Europe/Brussels:20210114T190000
DTEND;TZID=Europe/Brussels:20210114T200000
DTSTAMP:20260420T201230
CREATED:20210217T235552Z
LAST-MODIFIED:20210223T063001Z
UID:66604-1610650800-1610654400@betoo.be
SUMMARY:betoo Call (nl)
DESCRIPTION:Ontdek alles over ‘betoobe’ en hoe je je netwerk kwalitatief  kan uitbreiden en jezelf als freelancer (independent professional) verder kan ontwikkelen. 🧧 Info over deze callbetoobe is een een georganiseerd ecosysteem voor freelancers (iPro*)  waar je alle diensten kan vinden om het verschil te kunnen maken bij je klanten. … ! Welke zijn de belangrijkste diensten die je op het online platform kan vinden? ✔ Netwerken met huisgenoten die er ook van overtuigd zijn dat je samen sterker staat dan alleen✔ ervaringen  delen over gemeenschappelijke onderwerpen via verschillende ‘communities’✔ kwaliteitstrainingen die je vooruit helpen (dit kan ook op aanvraag)✔ toegang hebben tot diverse expertises✔ toegang hebben tot jobs op een exclusieve manier\, via collega’s die al actief zijn bij die klant. betoobe is het enige ecosysteem voor iPro’s waar de leden worden beloond om elkaar te helpen: 💸 Verdien geld met het netwerk💸Genereer inkomsten door veldervaring en expertise te delen betoobe streeft naar het genereren van een hogere collectieve waarde door samenwerking tussen onafhankelijke professionals. * iPro:  Independent Professionals zijn zelfstandigen zonder vaste medewerkers die hun intellectuele diensten aanbieden aan andere bedrijven. 👨🏻 ORGANISATORPeter Janssens is co-founder betoobe\,  digitale transformatie pionier\, sales expert en coach.
URL:https://betoo.be/event/betoo-call-nl-33/
CATEGORIES:Public NL
ATTACH;FMTTYPE=image/png:https://betoo.be/wp-content/uploads/2021/02/betoo-Call-5.png
LOCATION:https://zoom.us/j/3989121966
END:VEVENT
BEGIN:VEVENT
DTSTART;TZID=Europe/Brussels:20210107T190000
DTEND;TZID=Europe/Brussels:20210107T200000
DTSTAMP:20260420T201230
CREATED:20210217T233818Z
LAST-MODIFIED:20210223T062904Z
UID:66595-1610046000-1610049600@betoo.be
SUMMARY:betoo Call (nl)
DESCRIPTION:Ontdek alles over ‘betoobe’ en hoe je je netwerk kwalitatief  kan uitbreiden en jezelf als freelancer (independent professional) verder kan ontwikkelen.   🧧 Info over deze callbetoobe is een een georganiseerd ecosysteem voor freelancers (iPro*)  waar je alle diensten kan vinden om het verschil te kunnen maken bij je klanten. … ! Welke zijn de belangrijkste diensten die je op het online platform kan vinden? ✔ Netwerken met huisgenoten die er ook van overtuigd zijn dat je samen sterker staat dan alleen✔ ervaringen  delen over gemeenschappelijke onderwerpen via verschillende ‘communities’✔ kwaliteitstrainingen die je vooruit helpen (dit kan ook op aanvraag)✔ toegang hebben tot diverse expertises✔ toegang hebben tot jobs op een exclusieve manier\, via collega’s die al actief zijn bij die klant. betoobe is het enige ecosysteem voor iPro’s waar de leden worden beloond om elkaar te helpen: 💸 Verdien geld met het netwerk💸Genereer inkomsten door veldervaring en expertise te delen betoobe streeft naar het genereren van een hogere collectieve waarde door samenwerking tussen onafhankelijke professionals. * iPro:  Independent Professionals zijn zelfstandigen zonder vaste medewerkers die hun intellectuele diensten aanbieden aan andere bedrijven. 👨🏻 ORGANISATORPeter Janssens is co-founder betoobe\,  digitale transformatie pionier\, sales expert en coach.
URL:https://betoo.be/event/betoo-call-nl-30/
CATEGORIES:Public NL
ATTACH;FMTTYPE=image/png:https://betoo.be/wp-content/uploads/2021/02/betoo-Call-5.png
LOCATION:https://zoom.us/j/3989121966
END:VEVENT
END:VCALENDAR