BEGIN:VCALENDAR
VERSION:2.0
PRODID:-//betoobe - ECPv6.13.0//NONSGML v1.0//EN
CALSCALE:GREGORIAN
METHOD:PUBLISH
X-WR-CALNAME:betoobe
X-ORIGINAL-URL:https://betoo.be
X-WR-CALDESC:Events for betoobe
REFRESH-INTERVAL;VALUE=DURATION:PT1H
X-Robots-Tag:noindex
X-PUBLISHED-TTL:PT1H
BEGIN:VTIMEZONE
TZID:Europe/Brussels
BEGIN:DAYLIGHT
TZOFFSETFROM:+0100
TZOFFSETTO:+0200
TZNAME:CEST
DTSTART:20210328T010000
END:DAYLIGHT
BEGIN:STANDARD
TZOFFSETFROM:+0200
TZOFFSETTO:+0100
TZNAME:CET
DTSTART:20211031T010000
END:STANDARD
BEGIN:DAYLIGHT
TZOFFSETFROM:+0100
TZOFFSETTO:+0200
TZNAME:CEST
DTSTART:20220327T010000
END:DAYLIGHT
BEGIN:STANDARD
TZOFFSETFROM:+0200
TZOFFSETTO:+0100
TZNAME:CET
DTSTART:20221030T010000
END:STANDARD
END:VTIMEZONE
BEGIN:VEVENT
DTSTART;TZID=Europe/Brussels:20210522T103000
DTEND;TZID=Europe/Brussels:20210522T123000
DTSTAMP:20260424T180026
CREATED:20210218T034652Z
LAST-MODIFIED:20210315T171412Z
UID:66740-1621679400-1621686600@betoo.be
SUMMARY:Trainer Boost: 6 tips to increase the likability of your session
DESCRIPTION:Every mentor or trainers ‘s ambition is to make learning as impactful and engaging as possible.But how? Motivating adult learners can be quite a challenge unless you know what makes them tick and what compels them to prioritize and take action.JOIN US FOR this 2 hour session:\nWith tips\, tricks\, methodologies\, feedback you will give your first mentor session in no time.At the end of this session you will:\n 	Understand what makes participants tick and what compels them to prioritize and take action.\n 	Understand how to engage in a session\n 	Understand and assess how your participants learn best\n 	Get acquainted with the different types of learners\nA word from the OrganizerHelloYou are subscribed for 🌟 6 tips to enhance the likability of your session 🌟I’m looking forward to meeting you online. And I’m curious to know your expectations for the session: Register them in the Expectations sheet.We value your time.  We therefore keep our live sessions short and focussed on valuable interactions\, reflections about the concepts\, practice and time for your questions.We have foreseen the booklet below for you with relevant background information and pre-thinking exercise to prepare if you like to.  Enjoy to do this in your own time & at your own pace .  😊Link to booklet: Download booklet here!What to do!\n 	Download the document\n 	Save on your local drive or cloud (!!! Else everyone can see your preparation 😉 )\n 	You can structure your ideas and questions in the foreseen fill-in fields\nDon’t hesitate to call me if you have questions.See you soon
URL:https://betoo.be/event/trainer-boost-6-tips-to-increase-the-likability-of-your-session/
CATEGORIES:MindShare
ATTACH;FMTTYPE=image/jpeg:https://betoo.be/wp-content/uploads/2021/02/shutterstock_1091189819-1-scaled-1.jpg
LOCATION:https://zoom.us/j/264054476
END:VEVENT
BEGIN:VEVENT
DTSTART;TZID=Europe/Brussels:20210604T203000
DTEND;TZID=Europe/Brussels:20210604T213000
DTSTAMP:20260424T180026
CREATED:20210513T212631Z
LAST-MODIFIED:20210602T123031Z
UID:69228-1622838600-1622842200@betoo.be
SUMMARY:Weg met papier! De beste tools & tricks om meer digitaal te werken
DESCRIPTION:Afdrukken\, notities maken\, overtypen. Boekjes en losse blaadjes met TODO lijstjes\, dingen die je niet mag vergeten\, tientallen versies van het concept dat je probeert uit te tekenen. Post-its op je scherm. Stress omdat je dat verslag niet afgedrukt krijgt. Frustratie door die typfout\, waardoor je opnieuw moet afdrukken. Aargh! \nHet kost niet enkel veel bomen\, het is ook heel frustrerend. Vooral omdat papier ook automatisch zorgt voor meer werk. Alles wat je afdrukt\, moet ook weer op één of andere manier verwerkt worden. Via papier werken is per definitie zeer inefficiënt. \nIk ben Johan Huygh\, en ik focus me volledig op operationele efficiëntie. Papier vervangen door een beter alternatief is daar uiteraard een belangrijk onderdeel van. Niet alles\, maar wel wat niet efficiënt is. \nOf toch alles? Ik ben zelf zeer trots op het feit dat ik ondertussen meer dan 3 jaar volledig papierloos werk. Walk the talk. Ik ben het levende bewijs dat het kan\, en dat het ten voordele van efficiëntie kan gaan. \nBenieuwd hoe ik dat doe? Benieuwd hoe ik mijn klanten\, zowel solo ondernemers als KMO’s\, help om ook wat minder op papier te werken en meer efficiënt te digitaliseren? Volg dan dit GRATIS Webinar en leer direct een aantal concrete\, direct toe te passen tips. Wees welkom!
URL:https://betoo.be/event/weg-met-papier-de-beste-tools-tricks-om-meer-digitaal-te-werken/
CATEGORIES:MindShare
ATTACH;FMTTYPE=image/png:https://betoo.be/wp-content/uploads/2021/05/Webinar-Papier-B2B-Event.png
ORGANIZER;CN="Johan Huygh":MAILTO:johan.huygh@tomanage.eu
LOCATION:
END:VEVENT
BEGIN:VEVENT
DTSTART;TZID=Europe/Brussels:20210716T140000
DTEND;TZID=Europe/Brussels:20210716T150000
DTSTAMP:20260424T180026
CREATED:20210513T213310Z
LAST-MODIFIED:20210519T193342Z
UID:69232-1626444000-1626447600@betoo.be
SUMMARY:De juiste aanpak voor leads\, prospecten en klantenbeheer (CRM)
DESCRIPTION:CRM is een magische term\, spijtig genoeg vaak met weinig inhoud. Daarom falen ook zeer veel CRM implementaties. \nMaar wat als je effectief op een slimme manier aan klantenbeheer doet? Hoe ga je van leads naar prospecten en klanten? Hoe zorg je ervoor dat CRM geen administratieve last – met weinig succes wordt\, maar een echte ondersteuning voor je sales (team)? Hoe kunnen je marketing acties\, events\, webinars\, netwerk inspanningen\, …. automatisch tot kwalitatieve leads en klanten leiden? \nIk ben Johan Huygh\, en ik focus me met ToManage op het efficiënt maken van bedrijven. Efficiënt op vlak van de operationele werkvloer\, maar ook op vlak van marketing en sales. Want ook daar kunnen de juiste processen en tools zorgen voor een hoog resultaat en een sterke groei van je bedrijf en je projecten. \nBenieuwd hoe ik dat doe? Benieuwd hoe ik mijn klanten\, zowel solo ondernemers als KMO’s\, help om marketing en sales te digitaliseren\, te automatiseren en vooral succesvoller te maken? Volg dan dit GRATIS Webinar en leer direct een aantal concrete\, direct toe te passen tools & tips. Wees welkom!
URL:https://betoo.be/event/de-juiste-aanpak-voor-leads-prospecten-en-klantenbeheer-crm/
CATEGORIES:MindShare
ATTACH;FMTTYPE=image/png:https://betoo.be/wp-content/uploads/2021/05/Webinar-CRM-B2B-Event.png
ORGANIZER;CN="Johan Huygh":MAILTO:johan.huygh@tomanage.eu
LOCATION:
END:VEVENT
BEGIN:VEVENT
DTSTART;TZID=Europe/Brussels:20210819T100000
DTEND;TZID=Europe/Brussels:20210819T110000
DTSTAMP:20260424T180026
CREATED:20210513T213512Z
LAST-MODIFIED:20210812T202743Z
UID:69236-1629367200-1629370800@betoo.be
SUMMARY:Hoe kies je de juiste software (leverancier)?
DESCRIPTION:Als je efficiënter wil werken\, komt digitalisering en automatisering snel op tafel. Je kan door de juiste software te gebruiken – of te laten bouwen – immers heel wat manueel of dubbel werk uitschakelen\, fouten reduceren\, en jou en je bedrijf klaarmaken voor groei. \nMaar hoe kies je software? Hoe maak je een slimme vergelijking tussen de 1000’en beschikbare pakketten die er zijn? En met welke software leverancier ga je het beste in zee? \nIk ben Johan Huygh\, en ik help met ToManage bedrijven en éénmanszaken om deze keuzes te maken. Op een slimme en doordachte manier\, die ervoor zorgt dat je investeringen optimaal renderen. \nGraag nodig ik je uit op dit GRATIS Webinar\, waar ik een aantal tips & tricks geef om de juiste software – of software leverancier te kiezen. Wees welkom!
URL:https://betoo.be/event/hoe-kies-je-de-juiste-software-leverancier/
CATEGORIES:MindShare,Public NL
ATTACH;FMTTYPE=image/png:https://betoo.be/wp-content/uploads/2021/05/Webinar-Software-B2B-Event-1.png
ORGANIZER;CN="Johan Huygh":MAILTO:johan.huygh@tomanage.eu
LOCATION:
END:VEVENT
BEGIN:VEVENT
DTSTART;TZID=Europe/Brussels:20220131T090000
DTEND;TZID=Europe/Brussels:20220131T170000
DTSTAMP:20260424T180026
CREATED:20211215T192010Z
LAST-MODIFIED:20211217T152640Z
UID:70207-1643619600-1643648400@betoo.be
SUMMARY:Learning as Oxygen for the Nimble Organisation
DESCRIPTION:We are eager to explore more of how a learning organization of the future could look like. After the inspirational sofa session with Katja Schipperheijn. We will have more time for a reverse engineering exercise and practical insights to use these techniques yourselves. \nAfter this session\, you will have the necessary knowledge to guide learning transformations in a symbiose of human and technology towards a learning organization ready for the future. \nOur community invites you for a whole day brainstorming with co-learning strategists and experts under the facilitation of Katja Schipperheijn. In an inspiring environment and healthy food nearby Antwerp. \nIn a small exclusive group\, only for people that attend the session. We limit the session to 10 people\, and you have been chosen to attend. So\, secure your seat 😊 \nWe ask for a small fee for that day\, and a possibility to get a 30% reduction via “KMO portefeuille”. The price is 770 euro with a KMO reduction 539 euro. \nWith an extra gift “The English perversion of the learning scape”.  With an exclusive after event for who is interested.
URL:https://betoo.be/event/learning-as-oxygen-for-the-nimble-organisation/
LOCATION:Exclusive location\, Surprise
CATEGORIES:MindShare
ATTACH;FMTTYPE=image/png:https://betoo.be/wp-content/uploads/2021/12/Katja-5.png
END:VEVENT
END:VCALENDAR