BEGIN:VCALENDAR
VERSION:2.0
PRODID:-//betoobe - ECPv6.13.0//NONSGML v1.0//EN
CALSCALE:GREGORIAN
METHOD:PUBLISH
X-WR-CALNAME:betoobe
X-ORIGINAL-URL:https://betoo.be
X-WR-CALDESC:Events for betoobe
REFRESH-INTERVAL;VALUE=DURATION:PT1H
X-Robots-Tag:noindex
X-PUBLISHED-TTL:PT1H
BEGIN:VTIMEZONE
TZID:Europe/Brussels
BEGIN:DAYLIGHT
TZOFFSETFROM:+0100
TZOFFSETTO:+0200
TZNAME:CEST
DTSTART:20220327T010000
END:DAYLIGHT
BEGIN:STANDARD
TZOFFSETFROM:+0200
TZOFFSETTO:+0100
TZNAME:CET
DTSTART:20221030T010000
END:STANDARD
END:VTIMEZONE
BEGIN:VEVENT
DTSTART;TZID=Europe/Brussels:20220131T090000
DTEND;TZID=Europe/Brussels:20220131T170000
DTSTAMP:20260423T212537
CREATED:20211215T192010Z
LAST-MODIFIED:20211217T152640Z
UID:70207-1643619600-1643648400@betoo.be
SUMMARY:Learning as Oxygen for the Nimble Organisation
DESCRIPTION:We are eager to explore more of how a learning organization of the future could look like. After the inspirational sofa session with Katja Schipperheijn. We will have more time for a reverse engineering exercise and practical insights to use these techniques yourselves. \nAfter this session\, you will have the necessary knowledge to guide learning transformations in a symbiose of human and technology towards a learning organization ready for the future. \nOur community invites you for a whole day brainstorming with co-learning strategists and experts under the facilitation of Katja Schipperheijn. In an inspiring environment and healthy food nearby Antwerp. \nIn a small exclusive group\, only for people that attend the session. We limit the session to 10 people\, and you have been chosen to attend. So\, secure your seat 😊 \nWe ask for a small fee for that day\, and a possibility to get a 30% reduction via “KMO portefeuille”. The price is 770 euro with a KMO reduction 539 euro. \nWith an extra gift “The English perversion of the learning scape”.  With an exclusive after event for who is interested.
URL:https://betoo.be/event/learning-as-oxygen-for-the-nimble-organisation/
LOCATION:Exclusive location\, Surprise
CATEGORIES:MindShare
ATTACH;FMTTYPE=image/png:https://betoo.be/wp-content/uploads/2021/12/Katja-5.png
END:VEVENT
END:VCALENDAR