BEGIN:VCALENDAR
VERSION:2.0
PRODID:-//betoobe - ECPv6.13.0//NONSGML v1.0//EN
CALSCALE:GREGORIAN
METHOD:PUBLISH
X-WR-CALNAME:betoobe
X-ORIGINAL-URL:https://betoo.be
X-WR-CALDESC:Events for betoobe
REFRESH-INTERVAL;VALUE=DURATION:PT1H
X-Robots-Tag:noindex
X-PUBLISHED-TTL:PT1H
BEGIN:VTIMEZONE
TZID:Europe/Brussels
BEGIN:DAYLIGHT
TZOFFSETFROM:+0100
TZOFFSETTO:+0200
TZNAME:CEST
DTSTART:20210328T010000
END:DAYLIGHT
BEGIN:STANDARD
TZOFFSETFROM:+0200
TZOFFSETTO:+0100
TZNAME:CET
DTSTART:20211031T010000
END:STANDARD
END:VTIMEZONE
BEGIN:VEVENT
DTSTART;TZID=Europe/Brussels:20210819T100000
DTEND;TZID=Europe/Brussels:20210819T110000
DTSTAMP:20260424T051933
CREATED:20210513T213512Z
LAST-MODIFIED:20210812T202743Z
UID:69236-1629367200-1629370800@betoo.be
SUMMARY:Hoe kies je de juiste software (leverancier)?
DESCRIPTION:Als je efficiënter wil werken\, komt digitalisering en automatisering snel op tafel. Je kan door de juiste software te gebruiken – of te laten bouwen – immers heel wat manueel of dubbel werk uitschakelen\, fouten reduceren\, en jou en je bedrijf klaarmaken voor groei. \nMaar hoe kies je software? Hoe maak je een slimme vergelijking tussen de 1000’en beschikbare pakketten die er zijn? En met welke software leverancier ga je het beste in zee? \nIk ben Johan Huygh\, en ik help met ToManage bedrijven en éénmanszaken om deze keuzes te maken. Op een slimme en doordachte manier\, die ervoor zorgt dat je investeringen optimaal renderen. \nGraag nodig ik je uit op dit GRATIS Webinar\, waar ik een aantal tips & tricks geef om de juiste software – of software leverancier te kiezen. Wees welkom!
URL:https://betoo.be/event/hoe-kies-je-de-juiste-software-leverancier/
CATEGORIES:MindShare,Public NL
ATTACH;FMTTYPE=image/png:https://betoo.be/wp-content/uploads/2021/05/Webinar-Software-B2B-Event-1.png
ORGANIZER;CN="Johan Huygh":MAILTO:johan.huygh@tomanage.eu
LOCATION:
END:VEVENT
END:VCALENDAR