BEGIN:VCALENDAR
VERSION:2.0
PRODID:-//betoobe - ECPv6.13.0//NONSGML v1.0//EN
CALSCALE:GREGORIAN
METHOD:PUBLISH
X-WR-CALNAME:betoobe
X-ORIGINAL-URL:https://betoo.be
X-WR-CALDESC:Events for betoobe
REFRESH-INTERVAL;VALUE=DURATION:PT1H
X-Robots-Tag:noindex
X-PUBLISHED-TTL:PT1H
BEGIN:VTIMEZONE
TZID:Europe/Brussels
BEGIN:DAYLIGHT
TZOFFSETFROM:+0100
TZOFFSETTO:+0200
TZNAME:CEST
DTSTART:20210328T010000
END:DAYLIGHT
BEGIN:STANDARD
TZOFFSETFROM:+0200
TZOFFSETTO:+0100
TZNAME:CET
DTSTART:20211031T010000
END:STANDARD
END:VTIMEZONE
BEGIN:VEVENT
DTSTART;TZID=Europe/Brussels:20210201T083000
DTEND;TZID=Europe/Brussels:20210201T090000
DTSTAMP:20260424T164003
CREATED:20210218T012755Z
LAST-MODIFIED:20210219T005247Z
UID:66655-1612168200-1612170000@betoo.be
SUMMARY:Online – Actie en ondernemer boost gesprek
DESCRIPTION:https://us02web.zoom.us/meeting/register/tZIkdOmtqTItEtzOg4PJlaouHPkPC75gJ6eo Reflectie + Actie + Focus = resultaten Tijdens dit onlinegesprek worden 3 vragen beantwoord. 1. Wat heb je gedaan (afgelopen week)2. Wat ga je doen (deze week)3. Wat houd je tegen (wie kan je helpen) Er worden geen details besproken. Elke deelnemer heeft enkele minuten en komt VOORBEREID in de call. De aanwezigen kunnen aangeven waar ze mee kunnen helpen. Doelstelling van de call is om jouw focus te vinden en indien nodig hulp bij de uitvoering.
URL:https://betoo.be/event/online-actie-en-ondernemer-boost-gesprek-5/
CATEGORIES:MindShare
ATTACH;FMTTYPE=image/png:https://betoo.be/wp-content/uploads/2021/02/betoo.be-banner.png
LOCATION:https://us02web.zoom.us/meeting/register/tZIkdOmtqTItEtzOg4PJlaouHPkPC75gJ6eo
END:VEVENT
BEGIN:VEVENT
DTSTART;TZID=Europe/Brussels:20210203T193000
DTEND;TZID=Europe/Brussels:20210203T210000
DTSTAMP:20260424T164003
CREATED:20210218T015437Z
LAST-MODIFIED:20210219T004934Z
UID:66669-1612380600-1612386000@betoo.be
SUMMARY:Spendeer minder tijd aan jouw administratie met OkiOki
DESCRIPTION:Voor wie als freelancer op zoek is naar een manier om meer overzicht te hebben en minder tijd te spenderen aan zijn administratie\, geef ik aanstaande woensdag 03/02 om 19.30u een gratis demo in samenwerking met OkiOki. OkiOki is een tool die automatisch voor jou op zoek naar facturen en betaalbewijzen en deze koppelt met de betalingen die je hebt gedaan. Dat doet ze via e-mail bijlagen\, het automatisch ophalen van download-links in e-mails en ze gaat zelfs facturen rechtstreeks ophalen uit het portaal van jouw leveranciers.Van daaruit kunnen al deze documenten meteen aan jouw boekhouder bezorgd worden. De demo is geheel vrijblijvend\, voor betoobe-leden en daarbuiten. Inschrijven kan hier:https://calendly.com/erik-meylemans/okioki-demo-voor-fisc-it PS: je kan ook inschrijven voor de 2e sessie op 08/02\, deze wordt in het Engels gehouden
URL:https://betoo.be/event/spendeer-minder-tijd-aan-jouw-administratie-met-okioki/
CATEGORIES:MindShare
LOCATION:https://zoom.us/j/96252554699
END:VEVENT
BEGIN:VEVENT
DTSTART;TZID=Europe/Brussels:20210208T083000
DTEND;TZID=Europe/Brussels:20210208T090000
DTSTAMP:20260424T164003
CREATED:20210218T021152Z
LAST-MODIFIED:20210219T005207Z
UID:66681-1612773000-1612774800@betoo.be
SUMMARY:Online – Actie en ondernemer boost gesprek
DESCRIPTION:https://us02web.zoom.us/meeting/register/tZIkdOmtqTItEtzOg4PJlaouHPkPC75gJ6eo Reflectie + Actie + Focus = resultaten Tijdens dit onlinegesprek worden 3 vragen beantwoord. 1. Wat heb je gedaan (afgelopen week)2. Wat ga je doen (deze week)3. Wat houd je tegen (wie kan je helpen) Er worden geen details besproken. Elke deelnemer heeft enkele minuten en komt VOORBEREID in de call. De aanwezigen kunnen aangeven waar ze mee kunnen helpen. Doelstelling van de call is om jouw focus te vinden en indien nodig hulp bij de uitvoering.
URL:https://betoo.be/event/online-actie-en-ondernemer-boost-gesprek-6/
CATEGORIES:MindShare
ATTACH;FMTTYPE=image/png:https://betoo.be/wp-content/uploads/2021/02/betoo.be-banner.png
LOCATION:https://us02web.zoom.us/meeting/register/tZIkdOmtqTItEtzOg4PJlaouHPkPC75gJ6eo
END:VEVENT
BEGIN:VEVENT
DTSTART;TZID=Europe/Brussels:20210215T083000
DTEND;TZID=Europe/Brussels:20210215T090000
DTSTAMP:20260424T164003
CREATED:20210218T023420Z
LAST-MODIFIED:20210219T005147Z
UID:66696-1613377800-1613379600@betoo.be
SUMMARY:Online – Actie en ondernemer boost gesprek
DESCRIPTION:https://us02web.zoom.us/meeting/register/tZIkdOmtqTItEtzOg4PJlaouHPkPC75gJ6eo Reflectie + Actie + Focus = resultaten Tijdens dit onlinegesprek worden 3 vragen beantwoord. 1. Wat heb je gedaan (afgelopen week)2. Wat ga je doen (deze week)3. Wat houd je tegen (wie kan je helpen) Er worden geen details besproken. Elke deelnemer heeft enkele minuten en komt VOORBEREID in de call. De aanwezigen kunnen aangeven waar ze mee kunnen helpen. Doelstelling van de call is om jouw focus te vinden en indien nodig hulp bij de uitvoering.
URL:https://betoo.be/event/online-actie-en-ondernemer-boost-gesprek-7/
CATEGORIES:MindShare
ATTACH;FMTTYPE=image/png:https://betoo.be/wp-content/uploads/2021/02/betoo.be-banner.png
LOCATION:https://us02web.zoom.us/meeting/register/tZIkdOmtqTItEtzOg4PJlaouHPkPC75gJ6eo
END:VEVENT
BEGIN:VEVENT
DTSTART;TZID=Europe/Brussels:20210215T200000
DTEND;TZID=Europe/Brussels:20210215T210000
DTSTAMP:20260424T164003
CREATED:20210218T013256Z
LAST-MODIFIED:20210315T171612Z
UID:66658-1613419200-1613422800@betoo.be
SUMMARY:“Trainer & mentor” café: 7:30 start
DESCRIPTION:Ik kijk er naar uit jullie maandag avond te ontmoeten.19u30 – 20u15  Business Corner: \n 	Business exchange januari :\n\n 	Project Johan\, An\, Anita + 1 online training\n 	Nog meer successen?\n\n\n 	Zien jullie nog business mogelijkheden voor je collega’s en/of Betoobe L&D collectief ?\n\n 	Welke klanten kunnen we aanspreken met ons collectief ?\n\n\n 	Jenny stelt haar idee voor\n 	We leren elkaars business kennen: deze week stellen An + Dirk voor\n20u15 – 20u40 Learning Corner; Ervaringen delen: successen\, uitdagingen en lessen zoals we aan de koffie tafel zouden doen.  Wat je wil delen wordt vooraf doorgegeven.\n 	15 min. leren van een collega\n 	5 min. overlopen van de events\n 20u40 – 20u55 Caring \n 	Kennen jullie nog coaches\, trainers of L&D adviseurs die goed passen binnen de betoobe spirit?\n 	Caring & Onboarding  (Jenny)\nPraktisch:\n 	Elke eerste en derde maandag van de maand\n 	Timing  Stipt  7:30pm tot 21:00pm\n 	https://zoom.us/j/6212962946\n 	Elke sessie zal opgenomen worden\nAarzel niet om me te contacteren met vragen of bedenkingen.
URL:https://betoo.be/event/trainer-mentor-cafe/
CATEGORIES:MindShare
ATTACH;FMTTYPE=image/jpeg:https://betoo.be/wp-content/uploads/2021/02/shutterstock_1408351031-3-scaled-1.jpg
LOCATION:https://zoom.us/j/6212962946
END:VEVENT
BEGIN:VEVENT
DTSTART;TZID=Europe/Brussels:20210222T083000
DTEND;TZID=Europe/Brussels:20210222T090000
DTSTAMP:20260424T164003
CREATED:20210218T031954Z
LAST-MODIFIED:20210228T064536Z
UID:66729-1613982600-1613984400@betoo.be
SUMMARY:Online – Actie en ondernemer boost gesprek
DESCRIPTION:Reflectie + Actie + Focus = resultaten Tijdens dit onlinegesprek worden 3 vragen beantwoord. 1. Wat heb je gedaan (afgelopen week)\n2. Wat ga je doen (deze week)\n3. Wat houd je tegen (wie kan je helpen) Er worden geen details besproken. Elke deelnemer heeft enkele minuten en komt VOORBEREID in de call. De aanwezigen kunnen aangeven waar ze mee kunnen helpen. Doelstelling van de call is om jouw focus te vinden en indien nodig hulp bij de uitvoering.
URL:https://betoo.be/event/online-actie-en-ondernemer-boost-gesprek-8/
LOCATION:Zoom
CATEGORIES:MindShare
ATTACH;FMTTYPE=image/png:https://betoo.be/wp-content/uploads/2021/02/betoo.be-banner.png
ORGANIZER;CN="Nico Van de Venne":MAILTO:nico@fenikscoaching.com
END:VEVENT
END:VCALENDAR