BEGIN:VCALENDAR
VERSION:2.0
PRODID:-//betoobe - ECPv6.13.0//NONSGML v1.0//EN
CALSCALE:GREGORIAN
METHOD:PUBLISH
X-WR-CALNAME:betoobe
X-ORIGINAL-URL:https://betoo.be
X-WR-CALDESC:Events for betoobe
REFRESH-INTERVAL;VALUE=DURATION:PT1H
X-Robots-Tag:noindex
X-PUBLISHED-TTL:PT1H
BEGIN:VTIMEZONE
TZID:Europe/Brussels
BEGIN:DAYLIGHT
TZOFFSETFROM:+0100
TZOFFSETTO:+0200
TZNAME:CEST
DTSTART:20210328T010000
END:DAYLIGHT
BEGIN:STANDARD
TZOFFSETFROM:+0200
TZOFFSETTO:+0100
TZNAME:CET
DTSTART:20211031T010000
END:STANDARD
END:VTIMEZONE
BEGIN:VEVENT
DTSTART;TZID=Europe/Brussels:20210607T120000
DTEND;TZID=Europe/Brussels:20210607T130000
DTSTAMP:20260424T222128
CREATED:20210511T080957Z
LAST-MODIFIED:20210511T140633Z
UID:69072-1623067200-1623070800@betoo.be
SUMMARY:betoo Call (en-fr-nl)
DESCRIPTION:🚀 Discover betoobe\,\n\n(Session In English / Session En Français / Sessie In het Nederlands) \nThe only ecosystem where Entrepreneurs and Independent Professionals🤝 support one another🤝 learn from each other🤝 do business together \n \n🧧 Agenda\n\nMeet with a small group of Independent Professionals around one of the founders of betoobe to discuss\, in a relaxed setting\, what this exceptional community is :👉 Feedback on the interview of more than 500 Independent Professionals👉 What makes betoobe a unique community?👉 What are the benefits for the members?👉 The « success stories »👉 How to become a member?👉 What does it mean in practice to be a member? \n \n\n\n\n📜 About the organizers\nThe call is organized by Jean-Paul Delmeire and Peter Janssens with the support of guests from the community of betoobe members. \nOver the past 10 years\, they have successfully applied\, as Independent Professionals\, their extensive executive experience to support the development and growth of innovative businesses. Together\, they created betoobe to apply the acquired expertise to the support and development of all Entrepreneurs and Independent Professionals. \nIn addition to the management of betoobe\, their consulting assignments with business leaders and their evenings with family or friends\, they also devote a significant part of their time to personally coach the members of betoobe in their own business development and personal growth.
URL:https://betoo.be/event/betoo-call-en-fr-nl-2/
CATEGORIES:betoo Call
ATTACH;FMTTYPE=image/png:https://betoo.be/wp-content/uploads/2021/03/betoo-call-1-1.png
ORGANIZER;CN="Jean-Paul Delmeire":MAILTO:jean-paul.delmeire@adilea.com
LOCATION:https://zoom.us/j/5673218989
END:VEVENT
BEGIN:VEVENT
DTSTART;TZID=Europe/Brussels:20210615T080000
DTEND;TZID=Europe/Brussels:20210615T090000
DTSTAMP:20260424T222128
CREATED:20210511T081053Z
LAST-MODIFIED:20210511T140530Z
UID:69073-1623744000-1623747600@betoo.be
SUMMARY:betoo Call (en-fr-nl)
DESCRIPTION:🚀 Discover betoobe\,\n\n(Session In English / Session En Français / Sessie In het Nederlands) \nThe only ecosystem where Entrepreneurs and Independent Professionals🤝 support one another🤝 learn from each other🤝 do business together \n \n🧧 Agenda\n\nMeet with a small group of Independent Professionals around one of the founders of betoobe to discuss\, in a relaxed setting\, what this exceptional community is :👉 Feedback on the interview of more than 500 Independent Professionals👉 What makes betoobe a unique community?👉 What are the benefits for the members?👉 The « success stories »👉 How to become a member?👉 What does it mean in practice to be a member? \n \n\n\n\n📜 About the organizers\nThe call is organized by Jean-Paul Delmeire and Peter Janssens with the support of guests from the community of betoobe members. \nOver the past 10 years\, they have successfully applied\, as Independent Professionals\, their extensive executive experience to support the development and growth of innovative businesses. Together\, they created betoobe to apply the acquired expertise to the support and development of all Entrepreneurs and Independent Professionals. \nIn addition to the management of betoobe\, their consulting assignments with business leaders and their evenings with family or friends\, they also devote a significant part of their time to personally coach the members of betoobe in their own business development and personal growth.
URL:https://betoo.be/event/betoo-call-en-fr-nl-3/
CATEGORIES:betoo Call
ATTACH;FMTTYPE=image/png:https://betoo.be/wp-content/uploads/2021/03/betoo-call-4-1.png
ORGANIZER;CN="Jean-Paul Delmeire":MAILTO:jean-paul.delmeire@adilea.com
LOCATION:https://zoom.us/j/5673218989
END:VEVENT
BEGIN:VEVENT
DTSTART;TZID=Europe/Brussels:20210621T190000
DTEND;TZID=Europe/Brussels:20210621T200000
DTSTAMP:20260424T222128
CREATED:20210511T081215Z
LAST-MODIFIED:20210511T140041Z
UID:69074-1624302000-1624305600@betoo.be
SUMMARY:betoo Call (en-fr-nl)
DESCRIPTION:🚀 Discover betoobe\,\n\n(Session In English / Session En Français / Sessie In het Nederlands) \nThe only ecosystem where Entrepreneurs and Independent Professionals🤝 support one another🤝 learn from each other🤝 do business together \n \n🧧 Agenda\n\nMeet with a small group of Independent Professionals around one of the founders of betoobe to discuss\, in a relaxed setting\, what this exceptional community is :👉 Feedback on the interview of more than 500 Independent Professionals👉 What makes betoobe a unique community?👉 What are the benefits for the members?👉 The « success stories »👉 How to become a member?👉 What does it mean in practice to be a member? \n \n\n\n\n📜 About the organizers\nThe call is organized by Jean-Paul Delmeire and Peter Janssens with the support of guests from the community of betoobe members. \nOver the past 10 years\, they have successfully applied\, as Independent Professionals\, their extensive executive experience to support the development and growth of innovative businesses. Together\, they created betoobe to apply the acquired expertise to the support and development of all Entrepreneurs and Independent Professionals. \nIn addition to the management of betoobe\, their consulting assignments with business leaders and their evenings with family or friends\, they also devote a significant part of their time to personally coach the members of betoobe in their own business development and personal growth.
URL:https://betoo.be/event/betoo-call-en-fr-nl-4/
CATEGORIES:betoo Call
ATTACH;FMTTYPE=image/png:https://betoo.be/wp-content/uploads/2021/03/betoo-call-3.png
ORGANIZER;CN="Jean-Paul Delmeire":MAILTO:jean-paul.delmeire@adilea.com
LOCATION:https://zoom.us/j/5673218989
END:VEVENT
BEGIN:VEVENT
DTSTART;TZID=Europe/Brussels:20210629T080000
DTEND;TZID=Europe/Brussels:20210629T090000
DTSTAMP:20260424T222128
CREATED:20210511T081313Z
LAST-MODIFIED:20210511T135941Z
UID:69075-1624953600-1624957200@betoo.be
SUMMARY:betoo Call (en-fr-nl)
DESCRIPTION:🚀 Discover betoobe\,\n\n(Session In English / Session En Français / Sessie In het Nederlands) \nThe only ecosystem where Entrepreneurs and Independent Professionals🤝 support one another🤝 learn from each other🤝 do business together \n \n🧧 Agenda\n\nMeet with a small group of Independent Professionals around one of the founders of betoobe to discuss\, in a relaxed setting\, what this exceptional community is :👉 Feedback on the interview of more than 500 Independent Professionals👉 What makes betoobe a unique community?👉 What are the benefits for the members?👉 The « success stories »👉 How to become a member?👉 What does it mean in practice to be a member? \n \n\n\n\n📜 About the organizers\nThe call is organized by Jean-Paul Delmeire and Peter Janssens with the support of guests from the community of betoobe members. \nOver the past 10 years\, they have successfully applied\, as Independent Professionals\, their extensive executive experience to support the development and growth of innovative businesses. Together\, they created betoobe to apply the acquired expertise to the support and development of all Entrepreneurs and Independent Professionals. \nIn addition to the management of betoobe\, their consulting assignments with business leaders and their evenings with family or friends\, they also devote a significant part of their time to personally coach the members of betoobe in their own business development and personal growth.
URL:https://betoo.be/event/betoo-call-en-fr-nl-5/
CATEGORIES:betoo Call
ATTACH;FMTTYPE=image/png:https://betoo.be/wp-content/uploads/2021/03/betoo-call-2.png
ORGANIZER;CN="Jean-Paul Delmeire":MAILTO:jean-paul.delmeire@adilea.com
LOCATION:https://zoom.us/j/5673218989
END:VEVENT
END:VCALENDAR