BEGIN:VCALENDAR
VERSION:2.0
PRODID:-//betoobe - ECPv6.13.0//NONSGML v1.0//EN
CALSCALE:GREGORIAN
METHOD:PUBLISH
X-ORIGINAL-URL:https://betoo.be
X-WR-CALDESC:Events for betoobe
REFRESH-INTERVAL;VALUE=DURATION:PT1H
X-Robots-Tag:noindex
X-PUBLISHED-TTL:PT1H
BEGIN:VTIMEZONE
TZID:Europe/Brussels
BEGIN:DAYLIGHT
TZOFFSETFROM:+0100
TZOFFSETTO:+0200
TZNAME:CEST
DTSTART:20210328T010000
END:DAYLIGHT
BEGIN:STANDARD
TZOFFSETFROM:+0200
TZOFFSETTO:+0100
TZNAME:CET
DTSTART:20211031T010000
END:STANDARD
END:VTIMEZONE
BEGIN:VEVENT
DTSTART;TZID=Europe/Brussels:20210317T190000
DTEND;TZID=Europe/Brussels:20210317T200000
DTSTAMP:20260425T025308
CREATED:20210309T172743Z
LAST-MODIFIED:20210417T063159Z
UID:67841-1616007600-1616011200@betoo.be
SUMMARY:betoo Call
DESCRIPTION:  \n🚀 Découvrez betoobe\,\n\nLe seul écosystème où les Professionnels Indépendants*🤝 se soutiennent mutuellement🤝 apprennent les uns des autres🤝 font du business ensemble \n(* Betoobe est Le Business Club pour les travailleurs indépendants sans employés fournissant des services intellectuels aux entreprises) \n  \n🧧 Agenda\n\nRetrouvez-vous avec un petit groupe de Professionnels Indépendants autour de l’un des fondateurs de betoobe pour discuter\, dans un cadre décontracté\, de ce qu’est cette communauté exceptionnelle :👉 Les retours sur l’interview de plus de 500 Professionnels Indépendants👉 En quoi betoobe est une communauté unique ?👉 Quels sont les bénéfices pour les membres ?👉 Les « success stories »👉 Comment devenir membre ?👉 Que se passe-t-il concrètement pour les membres ? \n  \n\n\n\n📜 A propos de l’organisateur\nLe call est animé par Jean-Paul Delmeire avec le soutien d’invités de la communauté des membres betoobe. \nAu cours des 10 dernières années\, Jean-Paul a appliqué avec succès\, en tant que Professionnel Indépendant\, sa vaste expérience exécutive pour accompagner le développement et la croissance d’entreprises innovantes. Avec Peter Janssens\, ils ont créé betoobe pour appliquer l’expertise acquise au soutien et au développement des Indépendants Professionnels. \nEn marge de la gestion de betoobe\, de ses missions de conseil auprès de dirigeants d’entreprises et de ses soirées en famille ou entre amis\, Jean-Paul consacre également une partie significative de son temps à accompagner personnellement les membres de betoobe dans leur propre trajet de développement professionnel et de croissance.
URL:https://betoo.be/event/betoo-call/
CATEGORIES:betoo Call
ATTACH;FMTTYPE=image/png:https://betoo.be/wp-content/uploads/2021/03/betoo-call-1-1.png
ORGANIZER;CN="Jean-Paul Delmeire":MAILTO:jean-paul.delmeire@adilea.com
LOCATION:https://zoom.us/j/5673218989
END:VEVENT
BEGIN:VEVENT
DTSTART;TZID=Europe/Brussels:20210318T190000
DTEND;TZID=Europe/Brussels:20210318T200000
DTSTAMP:20260425T025308
CREATED:20210309T172735Z
LAST-MODIFIED:20210417T063240Z
UID:67842-1616094000-1616097600@betoo.be
SUMMARY:betoo call (nl)
DESCRIPTION:Ontdek alles over ‘betoobe’ en hoe je je netwerk kwalitatief  kan uitbreiden en jezelf als freelancer (independent professional) verder kan ontwikkelen.\n\n\n\n\n\n\n\n\n🧧 Info over deze call\n\n\n\n\nbetoobe is een een georganiseerd ecosysteem voor freelancers (iPro*)  waar je alle diensten kan vinden om het verschil te kunnen maken bij je klanten. … !\n\n\n\n\n\nWelke zijn de belangrijkste diensten die je op het online platform kan vinden?\n\n\n\n\n\n✔ Netwerken met huisgenoten die er ook van overtuigd zijn dat je samen sterker staat dan alleen\n✔ ervaringen  delen over gemeenschappelijke onderwerpen via verschillende ‘communities’\n✔ Business Clinics en Masterclasses die je vooruit helpen\n✔ toegang hebben tot jobs op een exclusieve manier\,\n\n\n\n\n\n\n\n\n\n\n\n\n\n* iPro:  Independent Professionals zijn zelfstandigen zonder vaste medewerkers die hun intellectuele diensten aanbieden aan andere bedrijven.\n\n\n\n\n👨🏻 ORGANISATOR\n\n\n\n\nPeter Janssens is co-founder betoobe\,  digitale transformatie pionier\, sales expert en business coach.
URL:https://betoo.be/event/betoo-call-nl/
CATEGORIES:betoo Call
ATTACH;FMTTYPE=image/png:https://betoo.be/wp-content/uploads/2021/03/betoo-Call-5.png
ORGANIZER;CN="Peter Janssens":MAILTO:peter.janssens@winignite.com
LOCATION:
END:VEVENT
BEGIN:VEVENT
DTSTART;TZID=Europe/Brussels:20210323T080000
DTEND;TZID=Europe/Brussels:20210323T090000
DTSTAMP:20260425T025308
CREATED:20210309T175903Z
LAST-MODIFIED:20210417T063151Z
UID:67851-1616486400-1616490000@betoo.be
SUMMARY:betoo Call
DESCRIPTION:🚀 Découvrez betoobe\,\n\nLe seul écosystème où les Professionnels Indépendants*🤝 se soutiennent mutuellement🤝 apprennent les uns des autres🤝 font du business ensemble \n(* Betoobe est Le Business Club pour les travailleurs indépendants sans employés fournissant des services intellectuels aux entreprises) \n \n🧧 Agenda\n\nRetrouvez-vous avec un petit groupe de Professionnels Indépendants autour de l’un des fondateurs de betoobe pour discuter\, dans un cadre décontracté\, de ce qu’est cette communauté exceptionnelle :👉 Les retours sur l’interview de plus de 500 Professionnels Indépendants👉 En quoi betoobe est une communauté unique ?👉 Quels sont les bénéfices pour les membres ?👉 Les « success stories »👉 Comment devenir membre ?👉 Que se passe-t-il concrètement pour les membres ? \n \n\n\n\n📜 A propos de l’organisateur\nLe call est animé par Jean-Paul Delmeire avec le soutien d’invités de la communauté des membres betoobe. \nAu cours des 10 dernières années\, Jean-Paul a appliqué avec succès\, en tant que Professionnel Indépendant\, sa vaste expérience exécutive pour accompagner le développement et la croissance d’entreprises innovantes. Avec Peter Janssens\, ils ont créé betoobe pour appliquer l’expertise acquise au soutien et au développement des Indépendants Professionnels. \nEn marge de la gestion de betoobe\, de ses missions de conseil auprès de dirigeants d’entreprises et de ses soirées en famille ou entre amis\, Jean-Paul consacre également une partie significative de son temps à accompagner personnellement les membres de betoobe dans leur propre trajet de développement professionnel et de croissance.
URL:https://betoo.be/event/betoo-call-2/
CATEGORIES:betoo Call
ATTACH;FMTTYPE=image/png:https://betoo.be/wp-content/uploads/2021/03/betoo-call-1-1.png
ORGANIZER;CN="Jean-Paul Delmeire":MAILTO:jean-paul.delmeire@adilea.com
LOCATION:https://zoom.us/j/5673218989
END:VEVENT
BEGIN:VEVENT
DTSTART;TZID=Europe/Brussels:20210325T190000
DTEND;TZID=Europe/Brussels:20210325T200000
DTSTAMP:20260425T025308
CREATED:20210322T062431Z
LAST-MODIFIED:20210417T063227Z
UID:68517-1616698800-1616702400@betoo.be
SUMMARY:betoo Call (nl)
DESCRIPTION:🚀 Ontdek alles over ‘betoobe’\nEn hoe je je netwerk kwalitatief  kan uitbreiden en jezelf als freelancer (independent professional) verder kan ontwikkelen. \n🧧 Info over deze call\n\nbetoobe is een een georganiseerd ecosysteem voor freelancers (iPro*)  waar je alle diensten kan vinden om het verschil te kunnen maken bij je klanten. … ! \nWelke zijn de belangrijkste diensten die je op het online platform kan vinden? \n👉 Netwerken met huisgenoten die er ook van overtuigd zijn dat je samen sterker staat dan alleen👉 Ervaringen delen over gemeenschappelijke onderwerpen via verschillende ‘communities’👉 Business Clinics en Masterclasses die je vooruit helpentoegang hebben tot jobs op een exclusieve manier\, \n* iPro:  Independent Professionals zijn zelfstandigen zonder vaste medewerkers die hun intellectuele diensten aanbieden aan andere bedrijven. \n📜 Organisator\n\nPeter Janssens is co-founder betoobe\, digitale transformatie pionier\, sales expert en business coach.
URL:https://betoo.be/event/betoo-call-nl-2/
CATEGORIES:betoo Call
ATTACH;FMTTYPE=image/png:https://betoo.be/wp-content/uploads/2021/03/betoo-call-4.png
ORGANIZER;CN="Peter Janssens":MAILTO:peter.janssens@winignite.com
LOCATION:https://us02web.zoom.us/j/3989121966
END:VEVENT
BEGIN:VEVENT
DTSTART;TZID=Europe/Brussels:20210330T190000
DTEND;TZID=Europe/Brussels:20210330T200000
DTSTAMP:20260425T025308
CREATED:20210322T063043Z
LAST-MODIFIED:20210417T063220Z
UID:68525-1617130800-1617134400@betoo.be
SUMMARY:betoo Call (nl)
DESCRIPTION:🚀 Ontdek alles over ‘betoobe’\nEn hoe je je netwerk kwalitatief  kan uitbreiden en jezelf als freelancer (independent professional) verder kan ontwikkelen. \n🧧 Info over deze call\n\nbetoobe is een een georganiseerd ecosysteem voor freelancers (iPro*)  waar je alle diensten kan vinden om het verschil te kunnen maken bij je klanten. … ! \nWelke zijn de belangrijkste diensten die je op het online platform kan vinden? \n👉 Netwerken met huisgenoten die er ook van overtuigd zijn dat je samen sterker staat dan alleen👉 Ervaringen delen over gemeenschappelijke onderwerpen via verschillende ‘communities’👉 Business Clinics en Masterclasses die je vooruit helpentoegang hebben tot jobs op een exclusieve manier\, \n* iPro:  Independent Professionals zijn zelfstandigen zonder vaste medewerkers die hun intellectuele diensten aanbieden aan andere bedrijven. \n📜 Organisator\n\nPeter Janssens is co-founder betoobe\, digitale transformatie pionier\, sales expert en business coach.
URL:https://betoo.be/event/betoo-call-nl-3/
CATEGORIES:betoo Call
ATTACH;FMTTYPE=image/png:https://betoo.be/wp-content/uploads/2021/03/betoo-call-4.png
ORGANIZER;CN="Peter Janssens":MAILTO:peter.janssens@winignite.com
LOCATION:https://us02web.zoom.us/j/3989121966
END:VEVENT
END:VCALENDAR